BEGIN:VCALENDAR
VERSION:2.0
PRODID:-//HeelHuus Gezondheidscentrum - ECPv6.15.20//NONSGML v1.0//EN
CALSCALE:GREGORIAN
METHOD:PUBLISH
X-ORIGINAL-URL:https://heelhuus.nl
X-WR-CALDESC:Evenementen voor HeelHuus Gezondheidscentrum
REFRESH-INTERVAL;VALUE=DURATION:PT1H
X-Robots-Tag:noindex
X-PUBLISHED-TTL:PT1H
BEGIN:VTIMEZONE
TZID:UTC
BEGIN:STANDARD
TZOFFSETFROM:+0000
TZOFFSETTO:+0000
TZNAME:UTC
DTSTART:20240101T000000
END:STANDARD
END:VTIMEZONE
BEGIN:VEVENT
DTSTART;TZID=UTC:20251130T103000
DTEND;TZID=UTC:20251130T120000
DTSTAMP:20260423T022623
CREATED:20251016T154003Z
LAST-MODIFIED:20251016T154003Z
UID:10000033-1764498600-1764504000@heelhuus.nl
SUMMARY:Klankschalenconcert
DESCRIPTION:Klankschalenconcert\nLaat je meevoeren in een bedding van rust tijdens dit bijzondere klankschalenconcert. Ruth Wilgenhof van Under the Apple Tree neemt je mee op een innerlijke reis met dromerige klanken van klankschalen\, oceandrum\, rainstick en gong. De trillingen brengen lichaam en geest in diepe ontspanning. Je ligt comfortabel op een mat terwijl de klanken hoorbaar én voelbaar door je heen bewegen. \nWanneer: Zondag 30 november\, 10.30 – 12.00 uur\nPrijs: € 25\,- per persoon\nMeebrengen: matje\, kussen\, dekentje\, comfortabele kleding & warme sokken \nLees meer en meld je aan
URL:https://heelhuus.nl/agenda/klankschalenconcert/
LOCATION:HeelHuus\, De Gaikhorst 2\, Warnsveld\, 7231 NB
ATTACH;FMTTYPE=image/jpeg:https://heelhuus.nl/wp-content/uploads/2025/05/Klankschalenconcert.jpg
END:VEVENT
END:VCALENDAR