BEGIN:VCALENDAR
VERSION:2.0
PRODID:-//HeelHuus Gezondheidscentrum - ECPv6.15.20//NONSGML v1.0//EN
CALSCALE:GREGORIAN
METHOD:PUBLISH
X-ORIGINAL-URL:https://heelhuus.nl
X-WR-CALDESC:Evenementen voor HeelHuus Gezondheidscentrum
REFRESH-INTERVAL;VALUE=DURATION:PT1H
X-Robots-Tag:noindex
X-PUBLISHED-TTL:PT1H
BEGIN:VTIMEZONE
TZID:UTC
BEGIN:STANDARD
TZOFFSETFROM:+0000
TZOFFSETTO:+0000
TZNAME:UTC
DTSTART:20250101T000000
END:STANDARD
END:VTIMEZONE
BEGIN:VEVENT
DTSTART;TZID=UTC:20260202T193000
DTEND;TZID=UTC:20260202T213000
DTSTAMP:20260422T210840
CREATED:20251229T154946Z
LAST-MODIFIED:20260128T103838Z
UID:10000035-1770060600-1770067800@heelhuus.nl
SUMMARY:Do-In Yoga & Klankschalen
DESCRIPTION:Do-In Yoga in combinatie met de helende trillingen van klankschalen is een unieke beleving voor totale ontspanning van lichaam en geest. Tjeerd Postma en Zahra Kandil begeleiden je stap voor stap door zachte\, meditatieve bewegingen die energiebanen openen en levensenergie laten stromen. Daarna volgt een reis vol klanken waarbij de kristallen schalen tot diep in de cellen resoneren. De combinatie van beweging\, adem en klank nodigt uit om volledig los te laten\, te helen en opnieuw te verbinden met je innerlijke stilte. \nEen harmonieuze sessie voor iedereen die op zoek is naar rust\, hernieuwde energie en een diepere verbinding met zichzelf. \nKlik hier voor meer informatie en/of om je aan te melden voor de workshop.
URL:https://heelhuus.nl/agenda/do-in-yoga-klankschalen/
LOCATION:HeelHuus\, De Gaikhorst 2\, Warnsveld\, 7231 NB
ATTACH;FMTTYPE=image/jpeg:https://heelhuus.nl/wp-content/uploads/2026/01/Tjeerd-Postma-Do-In-Yoga.jpg
END:VEVENT
END:VCALENDAR