BEGIN:VCALENDAR
VERSION:2.0
PRODID:-//HeelHuus Gezondheidscentrum - ECPv6.15.20//NONSGML v1.0//EN
CALSCALE:GREGORIAN
METHOD:PUBLISH
X-WR-CALNAME:HeelHuus Gezondheidscentrum
X-ORIGINAL-URL:https://heelhuus.nl
X-WR-CALDESC:Evenementen voor HeelHuus Gezondheidscentrum
REFRESH-INTERVAL;VALUE=DURATION:PT1H
X-Robots-Tag:noindex
X-PUBLISHED-TTL:PT1H
BEGIN:VTIMEZONE
TZID:UTC
BEGIN:STANDARD
TZOFFSETFROM:+0000
TZOFFSETTO:+0000
TZNAME:UTC
DTSTART:20250101T000000
END:STANDARD
END:VTIMEZONE
BEGIN:VEVENT
DTSTART;TZID=UTC:20260516T100000
DTEND;TZID=UTC:20260516T160000
DTSTAMP:20260422T192601
CREATED:20260409T143859Z
LAST-MODIFIED:20260410T085804Z
UID:10000054-1778925600-1778947200@heelhuus.nl
SUMMARY:Opstellingendag Geboorte-imprint
DESCRIPTION:Opstellingendag Geboorte-imprint\nDe eerste ervaringen van ons leven ontstaan al vóórdat we er woorden voor kunnen hebben. Tijdens de periode van conceptie\, zwangerschap en geboorte wordt er meer opgeslagen dan later bewust herinnerd wordt. Het lichaam vergeet dit niet. \nDeze vroege imprint kan nog steeds doorwerken in hoe je je voelt\, verbindt en je plek inneemt in het leven. \nTijdens deze opstellingendag onderzoek je wat er in jouw systeem zichtbaar wil worden rondom jouw begin. Door geboorteopstellingen en een gezamenlijke ervaringsoefening ontstaat er ruimte om te kijken\, te voelen en nieuwe bewegingen mogelijk te maken. \nEen dag die je nét even anders laat kijken\, voelen en bewegen. \nPraktische informatie\n\nDeelname als vraaginbrenger: 120\,-\nDeelname als representant: 39\,-\nDe groep bestaat uit maximaal 12 deelnemers\,\nwaarvan 4 plaatsen beschikbaar zijn als vraaginbrenger.\nNeem je eigen lunch mee. Voor de soep wordt gezorgd. \nAanmelden en vragen: jasmin@leefenfloreer.nl
URL:https://heelhuus.nl/agenda/opstellingendag-geboorte-imprint/
LOCATION:HeelHuus\, De Gaikhorst 2\, Warnsveld\, 7231 NB
ATTACH;FMTTYPE=image/jpeg:https://heelhuus.nl/wp-content/uploads/2025/12/Screenshot_20251028_134642_Gallery.jpg
ORGANIZER;CN="LEF - Leef en Floreer":MAILTO:jasmin@leefenfloreer.nl
END:VEVENT
END:VCALENDAR