BEGIN:VCALENDAR
VERSION:2.0
PRODID:-//HeelHuus Gezondheidscentrum - ECPv6.15.20//NONSGML v1.0//EN
CALSCALE:GREGORIAN
METHOD:PUBLISH
X-WR-CALNAME:HeelHuus Gezondheidscentrum
X-ORIGINAL-URL:https://heelhuus.nl
X-WR-CALDESC:Evenementen voor HeelHuus Gezondheidscentrum
REFRESH-INTERVAL;VALUE=DURATION:PT1H
X-Robots-Tag:noindex
X-PUBLISHED-TTL:PT1H
BEGIN:VTIMEZONE
TZID:UTC
BEGIN:STANDARD
TZOFFSETFROM:+0000
TZOFFSETTO:+0000
TZNAME:UTC
DTSTART:20230101T000000
END:STANDARD
END:VTIMEZONE
BEGIN:VEVENT
DTSTART;TZID=UTC:20250621T100000
DTEND;TZID=UTC:20250621T163000
DTSTAMP:20260422T230217
CREATED:20250218T124246Z
LAST-MODIFIED:20250220T111453Z
UID:10000020-1750500000-1750523400@heelhuus.nl
SUMMARY:Basiscursus Energie & Bewustzijn
DESCRIPTION:
URL:https://heelhuus.nl/agenda/basiscursus-energie-bewustzijn-2/2025-06-21/
LOCATION:HeelHuus\, De Gaikhorst 2\, Warnsveld\, 7231 NB
CATEGORIES:Energie & Bewustzijn
ATTACH;FMTTYPE=image/jpeg:https://heelhuus.nl/wp-content/uploads/2025/02/Basiscursus-Energie-en-Bewustzijn-Boek.jpg
END:VEVENT
BEGIN:VEVENT
DTSTART;TZID=UTC:20250517T100000
DTEND;TZID=UTC:20250517T163000
DTSTAMP:20260422T230217
CREATED:20250218T124246Z
LAST-MODIFIED:20250220T111453Z
UID:10000019-1747476000-1747499400@heelhuus.nl
SUMMARY:Basiscursus Energie & Bewustzijn
DESCRIPTION:
URL:https://heelhuus.nl/agenda/basiscursus-energie-bewustzijn-2/2025-05-17/
LOCATION:HeelHuus\, De Gaikhorst 2\, Warnsveld\, 7231 NB
CATEGORIES:Energie & Bewustzijn
ATTACH;FMTTYPE=image/jpeg:https://heelhuus.nl/wp-content/uploads/2025/02/Basiscursus-Energie-en-Bewustzijn-Boek.jpg
END:VEVENT
BEGIN:VEVENT
DTSTART;TZID=UTC:20250507T183000
DTEND;TZID=UTC:20250507T213000
DTSTAMP:20260422T230217
CREATED:20250217T120918Z
LAST-MODIFIED:20250617T095407Z
UID:10000013-1746642600-1746653400@heelhuus.nl
SUMMARY:SJ-opstellingen
DESCRIPTION:Vanaf maart tot aan de zomer verzorgen Sabine & Jasmin op een aantal woensdagavonden (familie)opstellingen.  Tijdens zo’n opstelling kunnen onzichtbare dynamieken en diepgewortelde overtuigingen in jouw systeem zichtbaar worden. Een opstelling helpt je de oorsprong van belemmerende patronen te doorgronden en kan helderheid brengen in wat jou tegenhoudt. \nHierdoor krijg je de ruimte om los te laten wat niet meer dient\, zodat je meer vrijheid\, balans en innerlijke rust kunt ervaren. Het is een krachtige stap naar persoonlijke groei en een lichter leven. \nKlaar om deze stap te zetten of heb je nog vragen? Neem dan contact op met Sabine & Jasmin en ontdek wat een opstelling voor jou kan betekenen! \nsj.opstellingen@gmail.com \nDe opstellingen-avond vindt plaats in de sfeervolle workshopruimte en kost 40\,- per persoon\, inclusief koffie/thee en vitaal water.
URL:https://heelhuus.nl/agenda/opstellingsavond/2025-05-07/
LOCATION:HeelHuus\, De Gaikhorst 2\, Warnsveld\, 7231 NB
ATTACH;FMTTYPE=image/jpeg:https://heelhuus.nl/wp-content/uploads/2025/02/SJ-opstellingen.jpg
ORGANIZER;CN="SJ Opstellingen":MAILTO:sj.opstellingen@gmail.com
END:VEVENT
BEGIN:VEVENT
DTSTART;TZID=UTC:20250416T183000
DTEND;TZID=UTC:20250416T210000
DTSTAMP:20260422T230217
CREATED:20250217T120918Z
LAST-MODIFIED:20250617T095407Z
UID:10000012-1744828200-1744837200@heelhuus.nl
SUMMARY:SJ-opstellingen
DESCRIPTION:Vanaf maart tot aan de zomer verzorgen Sabine & Jasmin op een aantal woensdagavonden (familie)opstellingen.  Tijdens zo’n opstelling kunnen onzichtbare dynamieken en diepgewortelde overtuigingen in jouw systeem zichtbaar worden. Een opstelling helpt je de oorsprong van belemmerende patronen te doorgronden en kan helderheid brengen in wat jou tegenhoudt. \nHierdoor krijg je de ruimte om los te laten wat niet meer dient\, zodat je meer vrijheid\, balans en innerlijke rust kunt ervaren. Het is een krachtige stap naar persoonlijke groei en een lichter leven. \nKlaar om deze stap te zetten of heb je nog vragen? Neem dan contact op met Sabine & Jasmin en ontdek wat een opstelling voor jou kan betekenen! \nsj.opstellingen@gmail.com \nDe opstellingen-avond vindt plaats in de sfeervolle workshopruimte en kost 40\,- per persoon\, inclusief koffie/thee en vitaal water.
URL:https://heelhuus.nl/agenda/opstellingsavond/2025-04-16/
LOCATION:HeelHuus\, De Gaikhorst 2\, Warnsveld\, 7231 NB
ATTACH;FMTTYPE=image/jpeg:https://heelhuus.nl/wp-content/uploads/2025/02/SJ-opstellingen.jpg
ORGANIZER;CN="SJ Opstellingen":MAILTO:sj.opstellingen@gmail.com
END:VEVENT
BEGIN:VEVENT
DTSTART;TZID=UTC:20250415T110000
DTEND;TZID=UTC:20250415T120000
DTSTAMP:20260422T230217
CREATED:20250331T122251Z
LAST-MODIFIED:20250402T100452Z
UID:10000021-1744714800-1744718400@heelhuus.nl
SUMMARY:Van Reset naar Resultaat\, Introductie- en InspiratieSessie
DESCRIPTION:Op zoek naar meer energie\, balans of een gezonder gewicht? Tijdens deze inspirerende ochtend nemen orthomoleculair therapeut Monique Berendsen en fysiotherapeut Wesley Guldenaar je mee in het veelzijdige aanbod van HeelHuus op het gebied van voeding\, beweging en bewust leven. Met een korte en heldere uitleg over: 3Care milde ketose-programma\, Innerwave detox- en vastenkuur\, FysioFit én de praktische Vytal-app voor persoonlijk voedingsadvies. \nMonique en Wesley laten zien hoe deze onderdelen – los of in combinatie – bijdragen aan een natuurlijk\, toegankelijk en effectief leefstijltraject. Natuurlijk is er ook ruimte om vragen te stellen en kun je direct een afspraak maken voor een persoonlijk consult of vervolgtraject. \n\n\n                \n                        \n                             \n                        \n                        Naam(Vereist)TelefoonE-mailadres(Vereist)\n                            \n                        Nieuwsbrief\n								\n								Ja\, ik ontvang graag de nieuwsbrief\n							\n          \n            \n            \n            \n            \n            \n            \n            \n            \n            \n            \n            \n            \n            \n        \n                        \n                        \n\n 
URL:https://heelhuus.nl/agenda/introductie-en-inspiratiesessie-van-reset-naar-resultaat/
LOCATION:HeelHuus\, De Gaikhorst 2\, Warnsveld\, 7231 NB
ATTACH;FMTTYPE=image/jpeg:https://heelhuus.nl/wp-content/uploads/2025/03/Heelhuus-social-post.jpg
END:VEVENT
BEGIN:VEVENT
DTSTART;TZID=UTC:20250412T100000
DTEND;TZID=UTC:20250412T163000
DTSTAMP:20260422T230217
CREATED:20250218T124246Z
LAST-MODIFIED:20250220T111453Z
UID:10000018-1744452000-1744475400@heelhuus.nl
SUMMARY:Basiscursus Energie & Bewustzijn
DESCRIPTION:
URL:https://heelhuus.nl/agenda/basiscursus-energie-bewustzijn-2/2025-04-12/
LOCATION:HeelHuus\, De Gaikhorst 2\, Warnsveld\, 7231 NB
CATEGORIES:Energie & Bewustzijn
ATTACH;FMTTYPE=image/jpeg:https://heelhuus.nl/wp-content/uploads/2025/02/Basiscursus-Energie-en-Bewustzijn-Boek.jpg
END:VEVENT
BEGIN:VEVENT
DTSTART;TZID=UTC:20250326T183000
DTEND;TZID=UTC:20250326T213000
DTSTAMP:20260422T230217
CREATED:20250217T120918Z
LAST-MODIFIED:20250617T095407Z
UID:10000011-1743013800-1743024600@heelhuus.nl
SUMMARY:SJ-opstellingen
DESCRIPTION:Vanaf maart tot aan de zomer verzorgen Sabine & Jasmin op een aantal woensdagavonden (familie)opstellingen.  Tijdens zo’n opstelling kunnen onzichtbare dynamieken en diepgewortelde overtuigingen in jouw systeem zichtbaar worden. Een opstelling helpt je de oorsprong van belemmerende patronen te doorgronden en kan helderheid brengen in wat jou tegenhoudt. \nHierdoor krijg je de ruimte om los te laten wat niet meer dient\, zodat je meer vrijheid\, balans en innerlijke rust kunt ervaren. Het is een krachtige stap naar persoonlijke groei en een lichter leven. \nKlaar om deze stap te zetten of heb je nog vragen? Neem dan contact op met Sabine & Jasmin en ontdek wat een opstelling voor jou kan betekenen! \nsj.opstellingen@gmail.com \nDe opstellingen-avond vindt plaats in de sfeervolle workshopruimte en kost 40\,- per persoon\, inclusief koffie/thee en vitaal water.
URL:https://heelhuus.nl/agenda/opstellingsavond/2025-03-26/
LOCATION:HeelHuus\, De Gaikhorst 2\, Warnsveld\, 7231 NB
ATTACH;FMTTYPE=image/jpeg:https://heelhuus.nl/wp-content/uploads/2025/02/SJ-opstellingen.jpg
ORGANIZER;CN="SJ Opstellingen":MAILTO:sj.opstellingen@gmail.com
END:VEVENT
BEGIN:VEVENT
DTSTART;TZID=UTC:20250315T100000
DTEND;TZID=UTC:20250315T163000
DTSTAMP:20260422T230217
CREATED:20250218T124246Z
LAST-MODIFIED:20250220T111453Z
UID:10000017-1742032800-1742056200@heelhuus.nl
SUMMARY:Basiscursus Energie & Bewustzijn
DESCRIPTION:
URL:https://heelhuus.nl/agenda/basiscursus-energie-bewustzijn-2/2025-03-15/
LOCATION:HeelHuus\, De Gaikhorst 2\, Warnsveld\, 7231 NB
CATEGORIES:Energie & Bewustzijn
ATTACH;FMTTYPE=image/jpeg:https://heelhuus.nl/wp-content/uploads/2025/02/Basiscursus-Energie-en-Bewustzijn-Boek.jpg
END:VEVENT
BEGIN:VEVENT
DTSTART;TZID=UTC:20250305T183000
DTEND;TZID=UTC:20250305T213000
DTSTAMP:20260422T230217
CREATED:20250217T120918Z
LAST-MODIFIED:20250617T095407Z
UID:10000010-1741199400-1741210200@heelhuus.nl
SUMMARY:SJ-opstellingen
DESCRIPTION:Vanaf maart tot aan de zomer verzorgen Sabine & Jasmin op een aantal woensdagavonden (familie)opstellingen.  Tijdens zo’n opstelling kunnen onzichtbare dynamieken en diepgewortelde overtuigingen in jouw systeem zichtbaar worden. Een opstelling helpt je de oorsprong van belemmerende patronen te doorgronden en kan helderheid brengen in wat jou tegenhoudt. \nHierdoor krijg je de ruimte om los te laten wat niet meer dient\, zodat je meer vrijheid\, balans en innerlijke rust kunt ervaren. Het is een krachtige stap naar persoonlijke groei en een lichter leven. \nKlaar om deze stap te zetten of heb je nog vragen? Neem dan contact op met Sabine & Jasmin en ontdek wat een opstelling voor jou kan betekenen! \nsj.opstellingen@gmail.com \nDe opstellingen-avond vindt plaats in de sfeervolle workshopruimte en kost 40\,- per persoon\, inclusief koffie/thee en vitaal water.
URL:https://heelhuus.nl/agenda/opstellingsavond/2025-03-05/
LOCATION:HeelHuus\, De Gaikhorst 2\, Warnsveld\, 7231 NB
ATTACH;FMTTYPE=image/jpeg:https://heelhuus.nl/wp-content/uploads/2025/02/SJ-opstellingen.jpg
ORGANIZER;CN="SJ Opstellingen":MAILTO:sj.opstellingen@gmail.com
END:VEVENT
BEGIN:VEVENT
DTSTART;TZID=UTC:20250201T100000
DTEND;TZID=UTC:20250201T163000
DTSTAMP:20260422T230217
CREATED:20250120T133609Z
LAST-MODIFIED:20250127T111753Z
UID:10000008-1738404000-1738427400@heelhuus.nl
SUMMARY:Verdiepingsdag Energie & Bewustzijn
DESCRIPTION:Speciaal voor de voormalige deelnemers van de Basiscursus Energie & Bewustzijn geeft André Visch deze verdiepingsdag. Tijdens deze dag gaat hij dieper in op de onderwerpen van de Basiscursus\, wordt er veel geoefend en is er volop de gelegenheid om vragen te stellen. \nEr zijn nog een aantal plekken beschikbaar. Koop hier je ticket.
URL:https://heelhuus.nl/agenda/verdiepingsdag-energie-bewustzijn/
LOCATION:HeelHuus\, De Gaikhorst 2\, Warnsveld\, 7231 NB
CATEGORIES:Energie & Bewustzijn
ATTACH;FMTTYPE=image/jpeg:https://heelhuus.nl/wp-content/uploads/2024/11/maxresdefault.jpg
END:VEVENT
BEGIN:VEVENT
DTSTART;TZID=UTC:20250118T100000
DTEND;TZID=UTC:20250118T163000
DTSTAMP:20260422T230217
CREATED:20241108T113004Z
LAST-MODIFIED:20241111T101112Z
UID:10000007-1737194400-1737217800@heelhuus.nl
SUMMARY:Basiscursus Energie & Bewustzijn
DESCRIPTION:De cursus wordt gegeven door André Visch\, Therapeut Energie & Bewustzijn\, Acupuncturist en Manueel Therapeut. Door zijn jarenlange werk en ervaringen als healer heeft André een zeer praktische kijk gekregen op onderstaande aspecten. \nDe lessen worden gestructureerd gegeven en zijn goed opgebouwd. Gelijktijdig bevatten ze veel diepgang. Theorie en praktisch oefenen worden afgewisseld. \nData: 19 oktober\, 16 november\, 21 december en 18 januari \n————– \nDe data voor de aankomende cursus zijn bekend\, klik hier voor meer informatie. \n————–
URL:https://heelhuus.nl/agenda/basiscursus-energie-bewustzijn/2025-01-18/
LOCATION:HeelHuus\, De Gaikhorst 2\, Warnsveld\, 7231 NB
CATEGORIES:Energie & Bewustzijn
ATTACH;FMTTYPE=image/jpeg:https://heelhuus.nl/wp-content/uploads/2024/11/Basiscursus-Energie-en-Bewustzijn-Agenda.jpg
END:VEVENT
BEGIN:VEVENT
DTSTART;TZID=UTC:20241221T100000
DTEND;TZID=UTC:20241221T163000
DTSTAMP:20260422T230217
CREATED:20241108T113004Z
LAST-MODIFIED:20241111T101112Z
UID:10000006-1734775200-1734798600@heelhuus.nl
SUMMARY:Basiscursus Energie & Bewustzijn
DESCRIPTION:De cursus wordt gegeven door André Visch\, Therapeut Energie & Bewustzijn\, Acupuncturist en Manueel Therapeut. Door zijn jarenlange werk en ervaringen als healer heeft André een zeer praktische kijk gekregen op onderstaande aspecten. \nDe lessen worden gestructureerd gegeven en zijn goed opgebouwd. Gelijktijdig bevatten ze veel diepgang. Theorie en praktisch oefenen worden afgewisseld. \nData: 19 oktober\, 16 november\, 21 december en 18 januari \n————– \nDe data voor de aankomende cursus zijn bekend\, klik hier voor meer informatie. \n————–
URL:https://heelhuus.nl/agenda/basiscursus-energie-bewustzijn/2024-12-21/
LOCATION:HeelHuus\, De Gaikhorst 2\, Warnsveld\, 7231 NB
CATEGORIES:Energie & Bewustzijn
ATTACH;FMTTYPE=image/jpeg:https://heelhuus.nl/wp-content/uploads/2024/11/Basiscursus-Energie-en-Bewustzijn-Agenda.jpg
END:VEVENT
BEGIN:VEVENT
DTSTART;VALUE=DATE:20241129
DTEND;VALUE=DATE:20241130
DTSTAMP:20260422T230217
CREATED:20241108T111616Z
LAST-MODIFIED:20241112T190736Z
UID:10000004-1732838400-1732924799@heelhuus.nl
SUMMARY:10-jarig jubileum HeelHuus
DESCRIPTION:Op vrijdag 29 november 2024 ben je van harte uitgenodigd om tussen 16.00 uur en 20.00 uur met ons het glas te heffen. Ook voor een hapje wordt gezorgd. Met daarnaast doorlopend muziek\, een vitaliteitsmarkt en andere feestelijke & vitale activiteiten. We hopen dat je erbij bent! \nMeer informatie
URL:https://heelhuus.nl/agenda/10-jarig-jubileum-heelhuus/
LOCATION:HeelHuus\, De Gaikhorst 2\, Warnsveld\, 7231 NB
CATEGORIES:Nieuws
ATTACH;FMTTYPE=image/jpeg:https://heelhuus.nl/wp-content/uploads/2024/08/10-jaar-jubileum-HeelHuus-Agenda.jpg
END:VEVENT
BEGIN:VEVENT
DTSTART;TZID=UTC:20241116T100000
DTEND;TZID=UTC:20241116T163000
DTSTAMP:20260422T230217
CREATED:20241108T113004Z
LAST-MODIFIED:20241111T101112Z
UID:10000005-1731751200-1731774600@heelhuus.nl
SUMMARY:Basiscursus Energie & Bewustzijn
DESCRIPTION:De cursus wordt gegeven door André Visch\, Therapeut Energie & Bewustzijn\, Acupuncturist en Manueel Therapeut. Door zijn jarenlange werk en ervaringen als healer heeft André een zeer praktische kijk gekregen op onderstaande aspecten. \nDe lessen worden gestructureerd gegeven en zijn goed opgebouwd. Gelijktijdig bevatten ze veel diepgang. Theorie en praktisch oefenen worden afgewisseld. \nData: 19 oktober\, 16 november\, 21 december en 18 januari \n————– \nDe data voor de aankomende cursus zijn bekend\, klik hier voor meer informatie. \n————–
URL:https://heelhuus.nl/agenda/basiscursus-energie-bewustzijn/2024-11-16/
LOCATION:HeelHuus\, De Gaikhorst 2\, Warnsveld\, 7231 NB
CATEGORIES:Energie & Bewustzijn
ATTACH;FMTTYPE=image/jpeg:https://heelhuus.nl/wp-content/uploads/2024/11/Basiscursus-Energie-en-Bewustzijn-Agenda.jpg
END:VEVENT
BEGIN:VEVENT
DTSTART;TZID=UTC:20241105T200000
DTEND;TZID=UTC:20241105T213000
DTSTAMP:20260422T230217
CREATED:20241007T152745Z
LAST-MODIFIED:20241007T154549Z
UID:10000003-1730836800-1730842200@heelhuus.nl
SUMMARY:Basis&Balans met Omega-3 en Vitamine D3/K2
DESCRIPTION:Op deze avond staat er vanaf 19.30 uur een (h)eerlijk kopje koffie of thee met wat lekkers klaar. \nDe avond start om 20.00 uur met uitleg van André Visch over supplementen. Een regelmatige en voldoende inname van Omega-3 en vitamine D3/K2 kan dé basis zijn om het lichaam weer meer in balans te krijgen. En daarmee de opname van andere vitale vitamines en voedingsstoffen vergemakkelijken. \nMargriet Nijholt laat je vervolgens kennismaken met de Pure Arctic Oil én de omega-3 bloedtest* van het Noorse bedrijf Eqology. Pure Arctic Oil is een hoogwaardig ‘full spectrum’ omega-3 product\, afkomstig van Arctische wilde vis\, koudgeperste organische olijfolie en vitamine D3. \nUiteraard is er gelegenheid om vragen te stellen\, de olie te proeven en\, als je dat wil\, om de bloedtest te doen. \nDeze informatieavond is kosteloos en zonder enige verplichting. Heb je interesse? Meld je dan aan via bijgaand formulier. \n*Eqology biedt een unieke omega-3 test die de waarden van 11 belangrijke vetzuren\, omega-3 index én de omega-6/omega-3 verhouding meet. Oftewel ‘Meten is Weten.’ \n\n\n\n\nSchrijf je hier in:\n\n                \n                        \n                             \n                        \n                        Naam(Vereist)TelefoonE-mailadres(Vereist)\n                            \n                        Nieuwsbrief\n								\n								Ja\, ik ontvang graag de nieuwsbrief
URL:https://heelhuus.nl/agenda/basisbalans-met-omega-3-en-vitamine-d3-k2/
LOCATION:HeelHuus\, De Gaikhorst 2\, Warnsveld\, 7231 NB
CATEGORIES:Basis&Balans InformatieAvond
ATTACH;FMTTYPE=image/jpeg:https://heelhuus.nl/wp-content/uploads/2024/10/BasisBalans-met-Omega-3-en-Vitamine-D3_K2.jpg
END:VEVENT
BEGIN:VEVENT
DTSTART;TZID=UTC:20241016T193000
DTEND;TZID=UTC:20241016T210000
DTSTAMP:20260422T230217
CREATED:20240704T083539Z
LAST-MODIFIED:20241007T154608Z
UID:10000002-1729107000-1729112400@heelhuus.nl
SUMMARY:Basis&Balans Avond met Bewuste Ademhaling
DESCRIPTION:Tijdens deze avond gaan osteopaten Jeanne Hartman en haar zakelijk partner Jordi Joosten dieper in op het belang van ademhaling en de rol van het middenrif. Met praktische oefeningen waarmee je je ademhaling kunt verdiepen en de kracht van je middenrif kunt versterken. Om te ontdekken hoe je lichaam en geest in balans kunt brengen door bewust adem te halen. \nHet middenrif is een grote\, koepelvormige spier die de borstholte van de buikholte scheidt. Bij iedere ademhaling spant deze spier zich aan om lucht in onze longen te trekken en ontspant hij weer om de lucht uit te laten stromen. \nEen goede ademhaling begint in het middenrif. Door ons bewust te worden van hoe deze spier werkt en hoe we deze optimaal kunnen gebruiken\, kunnen we niet alleen beter ademen\, maar ook meer balans en ontspanning in ons lichaam ervaren. \n\n\nSchrijf je hier in:\n\n                \n                        \n                             \n                        \n                        Naam(Vereist)TelefoonE-mailadres(Vereist)\n                            \n                        Nieuwsbrief\n								\n								Ja\, ik ontvang graag de nieuwsbrief
URL:https://heelhuus.nl/agenda/basisbalans-avond-met-bewuste-ademhaling/
LOCATION:HeelHuus\, De Gaikhorst 2\, Warnsveld\, 7231 NB
CATEGORIES:Basis&Balans InformatieAvond
ATTACH;FMTTYPE=image/jpeg:https://heelhuus.nl/wp-content/uploads/2024/07/BasisBalans-Avond-met-Bewuste-Ademhaling_links.jpg
END:VEVENT
END:VCALENDAR