BEGIN:VCALENDAR
VERSION:2.0
PRODID:-//HeelHuus Gezondheidscentrum - ECPv6.15.20//NONSGML v1.0//EN
CALSCALE:GREGORIAN
METHOD:PUBLISH
X-WR-CALNAME:HeelHuus Gezondheidscentrum
X-ORIGINAL-URL:https://heelhuus.nl
X-WR-CALDESC:Evenementen voor HeelHuus Gezondheidscentrum
REFRESH-INTERVAL;VALUE=DURATION:PT1H
X-Robots-Tag:noindex
X-PUBLISHED-TTL:PT1H
BEGIN:VTIMEZONE
TZID:UTC
BEGIN:STANDARD
TZOFFSETFROM:+0000
TZOFFSETTO:+0000
TZNAME:UTC
DTSTART:20240101T000000
END:STANDARD
END:VTIMEZONE
BEGIN:VEVENT
DTSTART;TZID=UTC:20251011T100000
DTEND;TZID=UTC:20251011T163000
DTSTAMP:20260423T022624
CREATED:20251016T090320Z
LAST-MODIFIED:20251016T153010Z
UID:10000028-1760176800-1760200200@heelhuus.nl
SUMMARY:Cursusdagen Energie & Bewustzijn najaar 2025
DESCRIPTION:
URL:https://heelhuus.nl/agenda/cursus-energie-bewustzijn-najaar-2025/2025-10-11/
LOCATION:HeelHuus\, De Gaikhorst 2\, Warnsveld\, 7231 NB
CATEGORIES:Energie & Bewustzijn
ATTACH;FMTTYPE=image/jpeg:https://heelhuus.nl/wp-content/uploads/2025/02/Basiscursus-Energie-en-Bewustzijn-Boek.jpg
END:VEVENT
END:VCALENDAR