BEGIN:VCALENDAR
VERSION:2.0
PRODID:-//HeelHuus Gezondheidscentrum - ECPv6.15.20//NONSGML v1.0//EN
CALSCALE:GREGORIAN
METHOD:PUBLISH
X-WR-CALNAME:HeelHuus Gezondheidscentrum
X-ORIGINAL-URL:https://heelhuus.nl
X-WR-CALDESC:Evenementen voor HeelHuus Gezondheidscentrum
REFRESH-INTERVAL;VALUE=DURATION:PT1H
X-Robots-Tag:noindex
X-PUBLISHED-TTL:PT1H
BEGIN:VTIMEZONE
TZID:UTC
BEGIN:STANDARD
TZOFFSETFROM:+0000
TZOFFSETTO:+0000
TZNAME:UTC
DTSTART:20240101T000000
END:STANDARD
END:VTIMEZONE
BEGIN:VEVENT
DTSTART;TZID=UTC:20251201T173000
DTEND;TZID=UTC:20251201T190000
DTSTAMP:20260422T225124
CREATED:20251016T154727Z
LAST-MODIFIED:20251016T154727Z
UID:10000034-1764610200-1764615600@heelhuus.nl
SUMMARY:Cacaoceremonie
DESCRIPTION:Cacaoceremonie\nGeef jezelf een moment van diepe rust en verbinding. Tijdens deze cacaoceremonie neemt yogadocent Wilma van den Brink je mee op een zachte reis naar binnen met ceremoniële cacao\, een stille wandeling\, meditatie en Yin Yoga. Deze eeuwenoude traditie creëert ruimte voor zelfreflectie en een liefdevolle verbinding met jezelf\, elkaar en de natuur. \nEen avond waarin even niets hoeft en alles mag zijn. \nWanneer: Maandag 1 december\, 17.30 – 19.00 uur\nPrijs: € 47\,50 per persoon\nMeebrengen: comfortabele kleding\, warme trui\, deken of dikke sokken \nLees meer en meld je aan
URL:https://heelhuus.nl/agenda/cacaoceremonie/
LOCATION:HeelHuus\, De Gaikhorst 2\, Warnsveld\, 7231 NB
ATTACH;FMTTYPE=image/jpeg:https://heelhuus.nl/wp-content/uploads/2025/10/Cacaoceremonie-Wilma-van-den-Brink.jpg
END:VEVENT
BEGIN:VEVENT
DTSTART;TZID=UTC:20251213T100000
DTEND;TZID=UTC:20251213T163000
DTSTAMP:20260422T225124
CREATED:20251016T090320Z
LAST-MODIFIED:20251016T153010Z
UID:10000030-1765620000-1765643400@heelhuus.nl
SUMMARY:Cursusdagen Energie & Bewustzijn najaar 2025
DESCRIPTION:
URL:https://heelhuus.nl/agenda/cursus-energie-bewustzijn-najaar-2025/2025-12-13/
LOCATION:HeelHuus\, De Gaikhorst 2\, Warnsveld\, 7231 NB
CATEGORIES:Energie & Bewustzijn
ATTACH;FMTTYPE=image/jpeg:https://heelhuus.nl/wp-content/uploads/2025/02/Basiscursus-Energie-en-Bewustzijn-Boek.jpg
END:VEVENT
END:VCALENDAR