BEGIN:VCALENDAR
VERSION:2.0
PRODID:-//HeelHuus Gezondheidscentrum - ECPv6.15.20//NONSGML v1.0//EN
CALSCALE:GREGORIAN
METHOD:PUBLISH
X-WR-CALNAME:HeelHuus Gezondheidscentrum
X-ORIGINAL-URL:https://heelhuus.nl
X-WR-CALDESC:Evenementen voor HeelHuus Gezondheidscentrum
REFRESH-INTERVAL;VALUE=DURATION:PT1H
X-Robots-Tag:noindex
X-PUBLISHED-TTL:PT1H
BEGIN:VTIMEZONE
TZID:UTC
BEGIN:STANDARD
TZOFFSETFROM:+0000
TZOFFSETTO:+0000
TZNAME:UTC
DTSTART:20250101T000000
END:STANDARD
END:VTIMEZONE
BEGIN:VEVENT
DTSTART;TZID=UTC:20260110T100000
DTEND;TZID=UTC:20260110T163000
DTSTAMP:20260422T210841
CREATED:20260128T102011Z
LAST-MODIFIED:20260128T103955Z
UID:10000031-1768039200-1768062600@heelhuus.nl
SUMMARY:Cursusdagen Energie & Bewustzijn voorjaar 2026
DESCRIPTION:André Visch neemt je mee op een fascinerende ontdekkingstocht naar de eindeloze reeks mogelijkheden van de geest en de kracht van het zelfhelend- en intuïtieve vermogen. In deze cursus leer je o.a. aura’s zien en interpreteren\, chakra’s voelen\, mediteren\, je helderziendheid ontwikkelen en healing toepassen. Een mooie combinatie van theorie en praktische oefeningen om meer gezondheid\, energie\, geluk en vertrouwen in je innerlijk kompas te ervaren. \nKijk voor meer informatie op de website Compassion in Progress.
URL:https://heelhuus.nl/agenda/cursus-energie-bewustzijn-najaar-2025-2/2026-01-10/
LOCATION:HeelHuus\, De Gaikhorst 2\, Warnsveld\, 7231 NB
CATEGORIES:Energie & Bewustzijn
ATTACH;FMTTYPE=image/jpeg:https://heelhuus.nl/wp-content/uploads/2024/08/Andre-Visch-website.jpg
END:VEVENT
BEGIN:VEVENT
DTSTART;TZID=UTC:20260126T183000
DTEND;TZID=UTC:20260126T213000
DTSTAMP:20260422T210841
CREATED:20251230T142203Z
LAST-MODIFIED:20260402T151801Z
UID:10000036-1769452200-1769463000@heelhuus.nl
SUMMARY:Groepsopstellingen met Jasmin van der Linden
DESCRIPTION:Tijdens een groepsopstelling bij het HeelHuus begeleid ik mensen in het onderzoeken van vragen die gaan over  terugkerende patronen in hun leven. Dit kan betrekking hebben op familie\, relaties\, werk\, gezondheid of innerlijke thema’s die steeds opnieuw om aandacht vragen. \nEen groepsopstelling maakt zichtbaar wat vaak onbewust meespeelt. Door dit letterlijk in beeld te brengen\, ontstaat er inzicht en kan er beweging komen. Niet door te forceren\, maar door helder te zien wat is. \nDe avond\nDeelnemen is mogelijk met een eigen vraag of als representant. Beide rollen zijn volwaardig en kunnen waardevolle inzichten geven. De opstellingen vinden plaats in een zorgvuldig opgebouwde veilige setting\, waarin duidelijkheid\, rust en aandacht centraal staan. \nBegeleiding\nDe groepsopstellingen worden begeleid door Jasmin van der Linden\, holistisch therapeut\, coach en opsteller bij LEF\, Leef en Floreer. Jasmin combineert systemisch werk met een nuchtere\, betrokken en afgestemde aanwezigheid. Ze volgt wat zich aandient zonder te forceren en blijft dichtbij de essentie van de vraag. \nPraktisch\nLocatie: HeelHuus Gezondheidscentrum\, Warnsveld\nPrijs: Als vraagsteller 90\,- per persoon en als representant 39\,- per persoon*\nInclusief: Koffie\, thee en snacks\nVergeet niet: Warme sokken of sloffen mee te nemen! \n*Patiënten/cliënten van het HeelHuus ontvangen 15% voordeel op bovenstaande prijs. \nWil je meer informatie en/of je aanmelden? Neem dan contact op met Jasmin: jasmin@leefenfloreer.nl
URL:https://heelhuus.nl/agenda/groepsopstellingen-met-jasmin-van-der-linden/2026-01-26/
LOCATION:HeelHuus\, De Gaikhorst 2\, Warnsveld\, 7231 NB
ATTACH;FMTTYPE=image/jpeg:https://heelhuus.nl/wp-content/uploads/2025/12/Screenshot_20251028_134642_Gallery.jpg
ORGANIZER;CN="LEF - Leef en Floreer":MAILTO:jasmin@leefenfloreer.nl
END:VEVENT
END:VCALENDAR